BEGIN:VCALENDAR
VERSION:2.0
CALSCALE:GREGORIAN
METHOD:REQUEST
PRODID:Erie Sports Commission
BEGIN:VEVENT
UID: 104395169e660105b637@info@eriesports.com
SUMMARY:Erie SeaWolves vs Richmond Flying Squirrels
DTSTAMP:20260420T131912
DTSTART:20260515T180500
DTEND:20260515T180500
LOCATION:
DESCRIPTION:Cheer on the Erie SeaWolves as they take on the Richmond Flying Squirrels!<br />
<br />
Tickets and Schedule
STATUS:CONFIRMED
SEQUENCE:3
END:VEVENT
END:VCALENDAR