BEGIN:VCALENDAR
VERSION:2.0
CALSCALE:GREGORIAN
METHOD:REQUEST
PRODID:Erie Sports Commission
BEGIN:VEVENT
UID: 52774769e69ae1dcd4d@info@eriesports.com
SUMMARY:Burger King Classic 
DTSTAMP:20260420T173009
DTSTART:20260109T000000
DTEND:20260109T000000
LOCATION:501 W 12th St. Erie, PA 16501
DESCRIPTION:The 2026 Burger King Classic will be hosted by Cathedral Prep boys basketball on Jan. 9-10 at the Bayfront Convention Center. <br />
<br />
The Ramblers welcome in Neumann-Goretti, St. Edward’s and Thurgood Marshall Academy for the 42nd edition of one of the nation’s top four-team high school boys basketball annual tournaments.<br />
<br />
General Admission seats cost $7 per night in advance for adults and $5 in advance for students.<br />
<br />
General Admission tickets begin going on sale on December 1st at seven local Burger King locations (including in Erie, Fairview and North East) along with at Cathedral Prep and the Hagerty Family Events Center.<br />
<br />
Discounted link for friends and family: <br />
<br />
HERE<br />
<br />
 
STATUS:CONFIRMED
SEQUENCE:3
END:VEVENT
END:VCALENDAR