BEGIN:VCALENDAR
VERSION:2.0
CALSCALE:GREGORIAN
METHOD:REQUEST
PRODID:Erie Sports Commission
BEGIN:VEVENT
UID: 166730669e527f411fca@info@eriesports.com
SUMMARY:2026 Stars and Stripes Gymnastics Invitational 
DTSTAMP:20260419T150732
DTSTART:20260116T000000
DTEND:20260117T000000
LOCATION:1 Sassafras Pier Erie, PA 16507
DESCRIPTION:Pennsylvania&#039;s Largest Coed Gymnastics Invitational featuring:  ALL USAG Men&#039;s Artistic Levels / Women&#039;s USAG - DP Levels - 2-10 / ALL USAG - Xcel Levels.<br />
<br />
Team Lighting Inc. and Team Lightning Productions is excited to host the 2026 Stars and Stripes Coed Invitational at the Erie Bayfront Convention Center. Trophies will be awarded for AA and medals to 50% for all levels. Partial proceeds will benefit 9/11 charities including police, fire, military and rescue workers. <br />
<br />
Teams from regions V, VI and VII have participated in  the past from Ohio, Pennsylvania, West Virginia, New York, Michigan and Ontario.<br />
<br />
Main Event Information: <br />
<br />
75+ National Level 9 &amp; 10 Athletes<br />
<br />
Men&#039;s &amp; Women&#039;s Teams - side by side!<br />
<br />
Bayfront Convention Center<br />
<br />
Tickets available at the door.<br />
<br />
Adult: $20<br />
<br />
Child: $10  (3-17)<br />
<br />
Military, Police, Fire, &amp; Rescue<br />
<br />
FREE (please bring ID)<br />
<br />
For more information<br />
<br />
 
STATUS:CONFIRMED
SEQUENCE:3
END:VEVENT
END:VCALENDAR